BEGIN:VCALENDAR
VERSION:2.0
PRODID:-//Buffalo Center for Arts and Technology (BCAT) - ECPv6.15.20//NONSGML v1.0//EN
CALSCALE:GREGORIAN
METHOD:PUBLISH
X-ORIGINAL-URL:https://buffaloartstechcenter.org
X-WR-CALDESC:Events for Buffalo Center for Arts and Technology (BCAT)
REFRESH-INTERVAL;VALUE=DURATION:PT1H
X-Robots-Tag:noindex
X-PUBLISHED-TTL:PT1H
BEGIN:VTIMEZONE
TZID:America/New_York
BEGIN:DAYLIGHT
TZOFFSETFROM:-0500
TZOFFSETTO:-0400
TZNAME:EDT
DTSTART:20190310T070000
END:DAYLIGHT
BEGIN:STANDARD
TZOFFSETFROM:-0400
TZOFFSETTO:-0500
TZNAME:EST
DTSTART:20191103T060000
END:STANDARD
BEGIN:DAYLIGHT
TZOFFSETFROM:-0500
TZOFFSETTO:-0400
TZNAME:EDT
DTSTART:20200308T070000
END:DAYLIGHT
BEGIN:STANDARD
TZOFFSETFROM:-0400
TZOFFSETTO:-0500
TZNAME:EST
DTSTART:20201101T060000
END:STANDARD
BEGIN:DAYLIGHT
TZOFFSETFROM:-0500
TZOFFSETTO:-0400
TZNAME:EDT
DTSTART:20210314T070000
END:DAYLIGHT
BEGIN:STANDARD
TZOFFSETFROM:-0400
TZOFFSETTO:-0500
TZNAME:EST
DTSTART:20211107T060000
END:STANDARD
END:VTIMEZONE
BEGIN:VTIMEZONE
TZID:UTC
BEGIN:STANDARD
TZOFFSETFROM:+0000
TZOFFSETTO:+0000
TZNAME:UTC
DTSTART:20200101T000000
END:STANDARD
END:VTIMEZONE
BEGIN:VEVENT
DTSTART;TZID=America/New_York:20200123T173000
DTEND;TZID=America/New_York:20200123T193000
DTSTAMP:20260425T120552
CREATED:20200306T231659Z
LAST-MODIFIED:20200306T231659Z
UID:3780-1579800600-1579807800@buffaloartstechcenter.org
SUMMARY:Youth Arts Open House
DESCRIPTION:Still wondering what the BCAT hype is all about?❗️Stop by as our Youth Arts Program hosts a 2-day OPEN HOUSE event for Buffalo high school students! \nTour our studios\, meet the Teaching Artists and sign up for classes. \nLight refreshments will be served. Come in… see for yourself.
URL:https://buffaloartstechcenter.org/event/youth-arts-open-house-2/
END:VEVENT
BEGIN:VEVENT
DTSTART;TZID=UTC:20210526T100000
DTEND;TZID=UTC:20210526T120000
DTSTAMP:20260425T120552
CREATED:20210525T212317Z
LAST-MODIFIED:20210525T212317Z
UID:10722-1622023200-1622030400@buffaloartstechcenter.org
SUMMARY:Adult Workforce Open Enrollment
DESCRIPTION:OpenEnrollmentFlyer FINAL
URL:https://buffaloartstechcenter.org/event/adult-workforce-open-enrollment/
LOCATION:BCAT\, 1221 Main Street\, Buffalo\, NY\, 14209
ORGANIZER;CN="":MAILTO:bfrey@bufcat.org
END:VEVENT
END:VCALENDAR