BEGIN:VCALENDAR
VERSION:2.0
PRODID:-//Buffalo Center for Arts and Technology (BCAT) - ECPv6.15.20//NONSGML v1.0//EN
CALSCALE:GREGORIAN
METHOD:PUBLISH
X-WR-CALNAME:Buffalo Center for Arts and Technology (BCAT)
X-ORIGINAL-URL:https://buffaloartstechcenter.org
X-WR-CALDESC:Events for Buffalo Center for Arts and Technology (BCAT)
REFRESH-INTERVAL;VALUE=DURATION:PT1H
X-Robots-Tag:noindex
X-PUBLISHED-TTL:PT1H
BEGIN:VTIMEZONE
TZID:America/New_York
BEGIN:DAYLIGHT
TZOFFSETFROM:-0500
TZOFFSETTO:-0400
TZNAME:EDT
DTSTART:20180311T070000
END:DAYLIGHT
BEGIN:STANDARD
TZOFFSETFROM:-0400
TZOFFSETTO:-0500
TZNAME:EST
DTSTART:20181104T060000
END:STANDARD
BEGIN:DAYLIGHT
TZOFFSETFROM:-0500
TZOFFSETTO:-0400
TZNAME:EDT
DTSTART:20190310T070000
END:DAYLIGHT
BEGIN:STANDARD
TZOFFSETFROM:-0400
TZOFFSETTO:-0500
TZNAME:EST
DTSTART:20191103T060000
END:STANDARD
BEGIN:DAYLIGHT
TZOFFSETFROM:-0500
TZOFFSETTO:-0400
TZNAME:EDT
DTSTART:20200308T070000
END:DAYLIGHT
BEGIN:STANDARD
TZOFFSETFROM:-0400
TZOFFSETTO:-0500
TZNAME:EST
DTSTART:20201101T060000
END:STANDARD
BEGIN:DAYLIGHT
TZOFFSETFROM:-0500
TZOFFSETTO:-0400
TZNAME:EDT
DTSTART:20210314T070000
END:DAYLIGHT
BEGIN:STANDARD
TZOFFSETFROM:-0400
TZOFFSETTO:-0500
TZNAME:EST
DTSTART:20211107T060000
END:STANDARD
END:VTIMEZONE
BEGIN:VTIMEZONE
TZID:UTC
BEGIN:STANDARD
TZOFFSETFROM:+0000
TZOFFSETTO:+0000
TZNAME:UTC
DTSTART:20180101T000000
END:STANDARD
END:VTIMEZONE
BEGIN:VEVENT
DTSTART;TZID=America/New_York:20200123T173000
DTEND;TZID=America/New_York:20200123T193000
DTSTAMP:20260422T182800
CREATED:20200306T231659Z
LAST-MODIFIED:20200306T231659Z
UID:3780-1579800600-1579807800@buffaloartstechcenter.org
SUMMARY:Youth Arts Open House
DESCRIPTION:Still wondering what the BCAT hype is all about?❗️Stop by as our Youth Arts Program hosts a 2-day OPEN HOUSE event for Buffalo high school students! \nTour our studios\, meet the Teaching Artists and sign up for classes. \nLight refreshments will be served. Come in… see for yourself.
URL:https://buffaloartstechcenter.org/event/youth-arts-open-house-2/
LOCATION:NY
END:VEVENT
BEGIN:VEVENT
DTSTART;TZID=America/New_York:20200122T173000
DTEND;TZID=America/New_York:20200122T193000
DTSTAMP:20260422T182800
CREATED:20200306T231447Z
LAST-MODIFIED:20200306T231447Z
UID:3778-1579714200-1579721400@buffaloartstechcenter.org
SUMMARY:Youth Arts Open House
DESCRIPTION:Still wondering what the BCAT hype is all about?❗️Stop by WEDNESDAY\, January 22nd or THURSDAY\, January 23rd as our Youth Arts Program hosts a 2-day OPEN HOUSE event for Buffalo high school students! \nTour our studios\, meet the Teaching Artists and sign up for classes. \nLight refreshments will be served. Come in… see for yourself.
URL:https://buffaloartstechcenter.org/event/youth-arts-open-house/
LOCATION:NY
END:VEVENT
BEGIN:VEVENT
DTSTART;VALUE=DATE:20200121
DTEND;VALUE=DATE:20200125
DTSTAMP:20260422T182800
CREATED:20200306T231153Z
LAST-MODIFIED:20200306T231249Z
UID:3776-1579564800-1579910399@buffaloartstechcenter.org
SUMMARY:BCAT Spirit Week
DESCRIPTION:Tuesday- Seniors\, catch up on college and career paperwork from 11AM-4PM! Complete the FAFSA\, work on your resumes\, apply for jobs and more with our College and Career Counselor\, Yanava. \nWednesday-Day 1 of the Youth Arts Open House 5:30-7:30PM (tour art studios\, meet the instructors and sign up for classes) Light refreshments provided. \nThursday-Day 2 of the Youth Arts Open House 5:30-7:30PM (tour art studios\, meet the instructors and sign up for classes) Light refreshments provided. \nFriday- Movie Night. All youth are welcome as we sit back\, relax and watch a flick from 4-6PM. Snacks provided.
URL:https://buffaloartstechcenter.org/event/bcat-spirit-week/
LOCATION:NY
END:VEVENT
BEGIN:VEVENT
DTSTART;VALUE=DATE:20200120
DTEND;VALUE=DATE:20200121
DTSTAMP:20260422T182800
CREATED:20200306T231044Z
LAST-MODIFIED:20200306T231050Z
UID:3774-1579478400-1579564799@buffaloartstechcenter.org
SUMMARY:MLK Jr. Holiday BCAT Closed
DESCRIPTION:We will be closed in observance of the MLK Jr. holiday. There will be no Workforce Development classes and no Youth Arts programs.
URL:https://buffaloartstechcenter.org/event/mlk-jr-holiday-bcat-closed/
LOCATION:NY
END:VEVENT
BEGIN:VEVENT
DTSTART;VALUE=DATE:20200117
DTEND;VALUE=DATE:20200118
DTSTAMP:20260422T182800
CREATED:20200306T230958Z
LAST-MODIFIED:20200306T230958Z
UID:3772-1579219200-1579305599@buffaloartstechcenter.org
SUMMARY:Youth Arts Program Winter Registration Closes
DESCRIPTION:Interested in our Youth Arts AfterSchool Program? Applications are due today!
URL:https://buffaloartstechcenter.org/event/youth-arts-program-winter-registration-closes/
LOCATION:NY
END:VEVENT
BEGIN:VEVENT
DTSTART;TZID=UTC:20191113T173000
DTEND;TZID=UTC:20191113T193000
DTSTAMP:20260422T182800
CREATED:20200306T230745Z
LAST-MODIFIED:20200306T230801Z
UID:3770-1573666200-1573673400@buffaloartstechcenter.org
SUMMARY:Spotlight on Youth
DESCRIPTION:All art forms welcome. \nSpotlight On Youth (SOY)\, presented by Buffalo Center for Arts and Technology\, provides young people (ages 13-19) in the WNY area a safe and supportive space to share their artistic talents. \n5:30 – Check-in and free pizza\n5:30 – 6:00 – Open mic sign-ups\n6:00 – 7:30 – Open mic performances begin. All art forms welcome\, as long as the content is respectful.
URL:https://buffaloartstechcenter.org/event/spotlight-on-youth/
LOCATION:NY
END:VEVENT
BEGIN:VEVENT
DTSTART;VALUE=DATE:20191111
DTEND;VALUE=DATE:20191112
DTSTAMP:20260422T182800
CREATED:20200306T224930Z
LAST-MODIFIED:20200306T230454Z
UID:3768-1573430400-1573516799@buffaloartstechcenter.org
SUMMARY:Youth Arts AfterSchool Winter Program Enrollment Opens
DESCRIPTION:Applications are now open for our 2019-2020 Winter Program. Call (716) 259-1680 or email our Youth Arts Program Director\, Brandi Cane at bcane@bufcat.org to find out more.
URL:https://buffaloartstechcenter.org/event/youth-arts-afterschool-winter-program-enrollment-opens/
LOCATION:NY
END:VEVENT
BEGIN:VEVENT
DTSTART;VALUE=DATE:20191111
DTEND;VALUE=DATE:20191112
DTSTAMP:20260422T182800
CREATED:20200306T224825Z
LAST-MODIFIED:20200306T230609Z
UID:3766-1573430400-1573516799@buffaloartstechcenter.org
SUMMARY:Youth Arts AfterSchool Programs Cancelled
DESCRIPTION:In Observance of Veteran’s Day\, there will be no classes today.
URL:https://buffaloartstechcenter.org/event/youth-arts-afterschool-programs-cancelled/
LOCATION:NY
END:VEVENT
BEGIN:VEVENT
DTSTART;VALUE=DATE:20191105
DTEND;VALUE=DATE:20191106
DTSTAMP:20260422T182800
CREATED:20200306T224729Z
LAST-MODIFIED:20200306T230653Z
UID:3764-1572912000-1572998399@buffaloartstechcenter.org
SUMMARY:Youth Arts AfterSchool Program Cancelled
DESCRIPTION:There will be no Youth Arts Program classes today.
URL:https://buffaloartstechcenter.org/event/youth-arts-afterschool-program-cancelled/
LOCATION:NY
END:VEVENT
BEGIN:VEVENT
DTSTART;TZID=America/New_York:20191007T150000
DTEND;TZID=America/New_York:20191007T180000
DTSTAMP:20260422T182800
CREATED:20200306T224608Z
LAST-MODIFIED:20200306T230422Z
UID:3762-1570460400-1570471200@buffaloartstechcenter.org
SUMMARY:Youth Arts Afterschool Classes Begin
DESCRIPTION:
URL:https://buffaloartstechcenter.org/event/youth-arts-afterschool-classes-begin/
LOCATION:NY
END:VEVENT
BEGIN:VEVENT
DTSTART;TZID=America/New_York:20191004T180000
DTEND;TZID=America/New_York:20191004T200000
DTSTAMP:20260422T182800
CREATED:20200306T224510Z
LAST-MODIFIED:20200306T225212Z
UID:3760-1570212000-1570219200@buffaloartstechcenter.org
SUMMARY:October First Friday: Movie Night! featuring '1988'
DESCRIPTION:We invite you to the final BCAT public showing of the thought provoking\, climate change documentary ‘1988’ produced by youth this summer as part of the Buffalo Youth Media Institute. This youth-led film explores the climate crisis and what may happen if society does not take action. \nScreening times:\n6:15\n6:45\n7:15\nFilm is approximately 22 minutes. \nRefreshments will include popcorn and some of your favorite movie theater snacks! Stop by for the film and take a walk around the gallery before we take down the artwork from this summer’s Youth Arts Program.
URL:https://buffaloartstechcenter.org/event/october-first-friday-movie-night-featuring-1988/
LOCATION:NY
END:VEVENT
BEGIN:VEVENT
DTSTART;TZID=America/New_York:20190928T140000
DTEND;TZID=America/New_York:20190928T160000
DTSTAMP:20260422T182800
CREATED:20200306T224351Z
LAST-MODIFIED:20200306T225338Z
UID:3758-1569679200-1569686400@buffaloartstechcenter.org
SUMMARY:Youth Arts Afterschool Enrollment Open House
DESCRIPTION:Come see our studios\, learn about our programs and submit or pick up an application. \nAttendance at an open house event is required for priority enrollment considerations. \nLimited spots are available. Sign up today!
URL:https://buffaloartstechcenter.org/event/youth-arts-afterschool-enrollment-open-house/
LOCATION:NY
END:VEVENT
BEGIN:VEVENT
DTSTART;TZID=America/New_York:20190926T173000
DTEND;TZID=America/New_York:20190926T193000
DTSTAMP:20260422T182800
CREATED:20200306T224038Z
LAST-MODIFIED:20200306T225317Z
UID:3756-1569519000-1569526200@buffaloartstechcenter.org
SUMMARY:Youth Arts Program Afterschool Open House
DESCRIPTION:Come see our studios\, learn about our programs and submit or pick up an application. \nAttendance at an open house event is required for priority enrollment considerations. Limited spots are available. Sign up today! \nYouth application must be signed by parent/guardian.
URL:https://buffaloartstechcenter.org/event/youth-arts-program-afterschool-open-house/
LOCATION:NY
END:VEVENT
BEGIN:VEVENT
DTSTART;TZID=UTC:20190608T110000
DTEND;TZID=UTC:20190608T140000
DTSTAMP:20260422T182800
CREATED:20200306T223856Z
LAST-MODIFIED:20200306T225248Z
UID:3754-1559991600-1560002400@buffaloartstechcenter.org
SUMMARY:Food is Art
DESCRIPTION:
URL:https://buffaloartstechcenter.org/event/food-is-art/
LOCATION:NY
END:VEVENT
END:VCALENDAR